BEGIN:VCALENDAR
VERSION:2.0
PRODID:-//connectwithcore.org//NONSGML kigkonsult.se iCalcreator 2.30.10//
CALSCALE:GREGORIAN
METHOD:PUBLISH
UID:0ae5a698-ffbf-4038-a921-8044adcaf45a
X-WR-CALDESC:Real stories of change in motion: Communities using C.O.R.E. p
 rinciples to achieve results that matter.\n\nWebinars are 30 minutes in le
 ngth with an additional 30 minutes for Q&A and discussion\, and are held e
 very other month on the 2nd Thursday at 11 am PT/12 pm MT/1 pm CT/2 pm ET
X-WR-RELCALID:45e4fb8f517ed0812f5bb6adcdd245e7
X-WR-TIMEZONE:America/Los_Angeles
BEGIN:VTIMEZONE
TZID:America/Los_Angeles
BEGIN:STANDARD
TZNAME:PST
DTSTART:20251102T020000
TZOFFSETFROM:-0700
TZOFFSETTO:-0800
RDATE:20261101T020000
RDATE:20271107T020000
END:STANDARD
BEGIN:DAYLIGHT
TZNAME:PDT
DTSTART:20260308T020000
TZOFFSETFROM:-0800
TZOFFSETTO:-0700
RDATE:20270314T020000
END:DAYLIGHT
END:VTIMEZONE
BEGIN:VEVENT
UID:56ad2235-e8b9-4663-815b-d86b93031c89
DTSTAMP:20260419T151334Z
DESCRIPTION:Real stories of change in motion: Communities using C.O.R.E. pr
 inciples to achieve results that matter.\n\nWebinars are 30 minutes in len
 gth with an additional 30 minutes for Q&A and discussion\, and are held ev
 ery other month on the 2nd Thursday at 11 am PT/12 pm MT/1 pm CT/2 pm ET
DTSTART;TZID=America/Los_Angeles:20260514T110000
DTEND;TZID=America/Los_Angeles:20260514T120000
LOCATION:
SUMMARY:C.O.R.E. Impact in Action Webinar
END:VEVENT
END:VCALENDAR
